{ "currentVersion": 11.1, "serviceDescription": "
The 1975 Zellar Williams Parcels were recieved in 1979 as hard copy maps. They were rectified in 2005 using the 2004 DOQQ.<\/span><\/span><\/p><\/div>",
"name": "Imagery/BOMR_1975_ZWAERIALS",
"description": " The 1975 Zellar Williams Parcels were recieved in 1979 as hard copy maps. They were rectified in 2005 using the 2004 DOQQ.<\/span><\/span><\/p><\/div>",
"extent": {
"xmin": 570867.0615760001,
"ymin": 395810.60890400026,
"xmax": 630831.9782559999,
"ymax": 465433.47310400003,
"spatialReference": {
"wkid": 3087,
"latestWkid": 3087
}
},
"initialExtent": {
"xmin": 570867.0615760001,
"ymin": 395810.60890400026,
"xmax": 630831.9782559999,
"ymax": 465433.47310400003,
"spatialReference": {
"wkid": 3087,
"latestWkid": 3087
}
},
"fullExtent": {
"xmin": 570867.0615760001,
"ymin": 395810.60890400026,
"xmax": 630831.9782559999,
"ymax": 465433.47310400003,
"spatialReference": {
"wkid": 3087,
"latestWkid": 3087
}
},
"sortableFields": "",
"bandCount": 3,
"pixelType": "U8",
"minValues": [
0,
0,
0
],
"maxValues": [
255,
255,
255
],
"meanValues": [
88.71803889656233,
83.51853110550586,
76.01525369650372
],
"stdvValues": [
76.47576892867923,
72.82157702442329,
66.58934832059056
],
"hasMultidimensions": false,
"pixelSizeX": 1.0318319999999963,
"pixelSizeY": 1.0318319999999968,
"datasetFormat": "AMD",
"uncompressedSize": 11763928875,
"blockWidth": 2048,
"blockHeight": 256,
"compressionType": "None",
"bandNames": [
"Band_1",
"Band_2",
"Band_3"
],
"allowCopy": true,
"allowAnalysis": true,
"itemAccess": false,
"noDataValue": 0,
"noDataValues": [
0,
0,
0
],
"minPixelSize": 0,
"maxPixelSize": 0,
"copyrightText": "FDEP Bureau of Mine Reclamation",
"serviceDataType": "esriImageServiceDataTypeRGB",
"serviceSourceType": "esriImageServiceSourceTypeMosaicDataset",
"objectIdField": "OBJECTID",
"fields": [
{
"name": "OBJECTID",
"type": "esriFieldTypeOID",
"alias": "OBJECTID",
"domain": null
},
{
"name": "Shape",
"type": "esriFieldTypeGeometry",
"alias": "Shape",
"domain": null
},
{
"name": "Name",
"type": "esriFieldTypeString",
"alias": "Name",
"domain": null,
"length": 50
},
{
"name": "MinPS",
"type": "esriFieldTypeDouble",
"alias": "MinPS",
"domain": null
},
{
"name": "Category",
"type": "esriFieldTypeInteger",
"alias": "Category",
"domain": {
"type": "codedValue",
"name": "MosaicCatalogItemCategoryDomain",
"description": "Catalog item categories.",
"codedValues": [
{
"name": "Unknown",
"code": 0
},
{
"name": "Primary",
"code": 1
},
{
"name": "Overview",
"code": 2
},
{
"name": "Unprocessed Overview",
"code": 3
},
{
"name": "Partial Overview",
"code": 4
},
{
"name": "Uploaded",
"code": 253
},
{
"name": "Incomplete",
"code": 254
},
{
"name": "Custom",
"code": 255
}
],
"mergePolicy": "esriMPTDefaultValue",
"splitPolicy": "esriSPTDefaultValue"
}
}
],
"capabilities": "Catalog,Mensuration,Image,Metadata",
"defaultMosaicMethod": "Center",
"allowedMosaicMethods": "Center,NorthWest,ByAttribute",
"sortField": "",
"sortValue": null,
"sortAscending": true,
"mosaicOperator": "First",
"maxDownloadSizeLimit": 2048,
"defaultCompressionQuality": 75,
"defaultResamplingMethod": "Bilinear",
"maxImageHeight": 4100,
"maxImageWidth": 15000,
"maxRecordCount": 1000,
"maxDownloadImageCount": 20,
"maxMosaicImageCount": 20,
"allowRasterFunction": true,
"rasterFunctionInfos": [
{
"name": "None",
"description": "",
"help": ""
}
],
"rasterTypeInfos": [
{
"name": "Raster Dataset",
"description": "Supports all ArcGIS Raster Datasets",
"help": ""
}
],
"mensurationCapabilities": "Basic",
"hasHistograms": true,
"hasColormap": false,
"hasRasterAttributeTable": false,
"minScale": 0,
"maxScale": 0,
"exportTilesAllowed": false,
"supportsStatistics": true,
"supportsAdvancedQueries": true,
"editFieldsInfo": null,
"ownershipBasedAccessControlForRasters": null,
"allowComputeTiePoints": false,
"useStandardizedQueries": true,
"advancedQueryCapabilities": {
"useStandardizedQueries": true,
"supportsStatistics": true,
"supportsOrderBy": true,
"supportsDistinct": true,
"supportsPagination": true
},
"spatialReference": {
"wkid": 3087,
"latestWkid": 3087
}
}