{ "currentVersion": 11.1, "serviceDescription": "
The NOAA Coastal Change Analysis Program (C-CAP) produces national standardized land cover and change products for the coastal regions of the U.S. C-CAP products inventory coastal intertidal areas, wetlands, and adjacent uplands with the goal of monitoring changes in these habitats through time. The timeframe for this metadata is 2020 through 2021, depending on the latest date of available imagery. These maps were developed utilizing high resolution 30cm or better aerial imagery. In addition, a digital surface model (DSM) derived from the stereo imagery was used to determine vegetation heights. This information provides managers with a detailed accounting of current landscape conditions related to impervious surface, woody canopy, and water feature extents.<\/SPAN><\/P><\/DIV><\/DIV><\/DIV>",
"name": "Imagery/NOAA_Land_Cover_Water_Cover_2020_2021",
"description": " The NOAA Coastal Change Analysis Program (C-CAP) produces national standardized land cover and change products for the coastal regions of the U.S. C-CAP products inventory coastal intertidal areas, wetlands, and adjacent uplands with the goal of monitoring changes in these habitats through time. The timeframe for this metadata is 2020 through 2021, depending on the latest date of available imagery. These maps were developed utilizing high resolution 30cm or better aerial imagery. In addition, a digital surface model (DSM) derived from the stereo imagery was used to determine vegetation heights. This information provides managers with a detailed accounting of current landscape conditions related to impervious surface, woody canopy, and water feature extents.<\/SPAN><\/P><\/DIV><\/DIV><\/DIV>",
"extent": {
"xmin": 796746.364052473,
"ymin": 259069.68503861304,
"xmax": 1613511.364052473,
"ymax": 967908.685038613,
"spatialReference": {
"wkid": 5070,
"latestWkid": 5070
}
},
"initialExtent": {
"xmin": 796746.364052473,
"ymin": 259069.68503861304,
"xmax": 1613511.364052473,
"ymax": 967908.685038613,
"spatialReference": {
"wkid": 5070,
"latestWkid": 5070
}
},
"fullExtent": {
"xmin": 796746.364052473,
"ymin": 259069.68503861304,
"xmax": 1613511.364052473,
"ymax": 967908.685038613,
"spatialReference": {
"wkid": 5070,
"latestWkid": 5070
}
},
"sortableFields": "",
"bandCount": 1,
"pixelType": "U8",
"minValues": [
1
],
"maxValues": [
255
],
"meanValues": [
1.7404288576566
],
"stdvValues": [
2.6542700242196
],
"hasMultidimensions": false,
"pixelSizeX": 1.0000000000000002,
"pixelSizeY": 1,
"datasetFormat": "TIFF",
"uncompressedSize": 578954176996,
"blockWidth": 128,
"blockHeight": 128,
"compressionType": "LZW",
"bandNames": [
"Band_1"
],
"allowCopy": true,
"allowAnalysis": true,
"itemAccess": false,
"noDataValue": 0,
"noDataValues": [
0
],
"minPixelSize": 0,
"maxPixelSize": 0,
"copyrightText": "This data was produced under contract to Ecopia Tech Corporation. C-CAP data sets are not jurisdictional or intended for use in litigation. While efforts have been made to ensure that these data are accurate and reliable within the limits of current technology, NOAA cannot assume liability for any damages or misrepresentations caused by inaccuracies in the data, or as a result of the data to be used on a particular system. NOAA makes no warranty, expressed or implied, nor does the fact of distribution constitute such a warranty. This is a national and regional data set that should be used only as a screening tool for very local or site-specific management decisions. Small features and changes should be verified with a higher-resolution data source.",
"serviceDataType": "esriImageServiceDataTypeThematic",
"serviceSourceType": "esriImageServiceSourceTypeDataset",
"objectIdField": "",
"fields": [],
"capabilities": "Image,Metadata,Mensuration",
"defaultMosaicMethod": "Center",
"allowedMosaicMethods": "",
"sortField": "",
"sortValue": null,
"sortAscending": true,
"mosaicOperator": "First",
"defaultCompressionQuality": 75,
"defaultResamplingMethod": "Bilinear",
"maxImageHeight": 4100,
"maxImageWidth": 15000,
"allowRasterFunction": true,
"rasterFunctionInfos": [
{
"name": "None",
"description": "Make a Raster or Raster Dataset into a Function Raster Dataset.",
"help": ""
},
{
"name": "Water Raster Function Template",
"description": "Water Raster Function Template",
"help": ""
}
],
"rasterTypeInfos": [
{
"name": "Raster Dataset",
"description": "Supports all ArcGIS Raster Datasets",
"help": ""
}
],
"mensurationCapabilities": "Basic",
"hasHistograms": true,
"hasColormap": false,
"hasRasterAttributeTable": true,
"minScale": 0,
"maxScale": 0,
"exportTilesAllowed": false,
"supportsStatistics": false,
"supportsAdvancedQueries": false,
"editFieldsInfo": null,
"ownershipBasedAccessControlForRasters": null,
"allowComputeTiePoints": false,
"useStandardizedQueries": true,
"advancedQueryCapabilities": {
"useStandardizedQueries": true,
"supportsStatistics": false,
"supportsOrderBy": false,
"supportsDistinct": false,
"supportsPagination": false
},
"spatialReference": {
"wkid": 5070,
"latestWkid": 5070
}
}