{
 "currentVersion": 11.1,
 "serviceDescription": " The NOAA Coastal Change Analysis Program (C-CAP) produces national standardized land cover and change products for the coastal regions of the U.S. C-CAP products inventory coastal intertidal areas, wetlands, and adjacent uplands with the goal of monitoring changes in these habitats through time. The timeframe for this metadata is summer 2021. These maps are developed utilizing high resolution aerial imagery, along with lidar and various available ancillary information, and can be used to track changes in the landscape through time. This trend information gives important feedback to managers on the success or failure of management policies and programs and aid in developing a scientific understanding of the Earth system and its response to natural and human-induced changes. This understanding allows for the prediction of impacts due to these changes and the assessment of their cumulative effects, helping coastal resource managers make more informed regional decisions.<\/p><\/div><\/div><\/div>",
 "name": "Imagery/NOAA_Land_Cover__Tampa__Florida__2021",
 "description": " The NOAA Coastal Change Analysis Program (C-CAP) produces national standardized land cover and change products for the coastal regions of the U.S. C-CAP products inventory coastal intertidal areas, wetlands, and adjacent uplands with the goal of monitoring changes in these habitats through time. The timeframe for this metadata is summer 2021. These maps are developed utilizing high resolution aerial imagery, along with lidar and various available ancillary information, and can be used to track changes in the landscape through time. This trend information gives important feedback to managers on the success or failure of management policies and programs and aid in developing a scientific understanding of the Earth system and its response to natural and human-induced changes. This understanding allows for the prediction of impacts due to these changes and the assessment of their cumulative effects, helping coastal resource managers make more informed regional decisions.<\/p><\/div><\/div><\/div>",
 "extent": {
  "xmin": 1233609.9303827623,
  "ymin": 474243.16528704966,
  "xmax": 1519778.823775054,
  "ymax": 754748.1797484896,
  "spatialReference": {
   "wkid": 5070,
   "latestWkid": 5070
  }
 },
 "initialExtent": {
  "xmin": 1233609.9303827623,
  "ymin": 474243.16528704966,
  "xmax": 1519778.823775054,
  "ymax": 754748.1797484896,
  "spatialReference": {
   "wkid": 5070,
   "latestWkid": 5070
  }
 },
 "fullExtent": {
  "xmin": 1233609.9303827623,
  "ymin": 474243.16528704966,
  "xmax": 1519778.823775054,
  "ymax": 754748.1797484896,
  "spatialReference": {
   "wkid": 5070,
   "latestWkid": 5070
  }
 },
 "sortableFields": "",
 "bandCount": 1,
 "pixelType": "U8",
 "minValues": [],
 "maxValues": [],
 "meanValues": [],
 "stdvValues": [],
 "hasMultidimensions": false,
 "pixelSizeX": 1.553551752101169,
 "pixelSizeY": 1.6180772305787479,
 "datasetFormat": "TIFF",
 "uncompressedSize": 31932879471,
 "blockWidth": 128,
 "blockHeight": 128,
 "compressionType": "None",
 "bandNames": [
  "Band_1"
 ],
 "allowCopy": true,
 "allowAnalysis": true,
 "itemAccess": false,
 "noDataValue": 0,
 "noDataValues": [
  0
 ],
 "minPixelSize": 0,
 "maxPixelSize": 0,
 "copyrightText": "C-CAP data sets are not jurisdictional or intended for use in litigation. While efforts have been made to ensure that these data are accurate and reliable within the limits of current technology, NOAA cannot assume liability for any damages or misrepresentations caused by inaccuracies in the data, or as a result of the data to be used on a particular system. NOAA makes no warranty, expressed or implied, nor does the fact of distribution constitute such a warranty. This is a national and regional data set that should be used only as a screening tool for very local or site-specific management decisions. Small features and changes should be verified with a higher-resolution data source.",
 "serviceDataType": "esriImageServiceDataTypeThematic",
 "serviceSourceType": "esriImageServiceSourceTypeDataset",
 "objectIdField": "",
 "fields": [],
 "capabilities": "Image,Metadata,Mensuration",
 "defaultMosaicMethod": "Center",
 "allowedMosaicMethods": "",
 "sortField": "",
 "sortValue": null,
 "sortAscending": true,
 "mosaicOperator": "First",
 "defaultCompressionQuality": 75,
 "defaultResamplingMethod": "Bilinear",
 "maxImageHeight": 4100,
 "maxImageWidth": 15000,
 "allowRasterFunction": true,
 "rasterFunctionInfos": [
  {
   "name": "None",
   "description": "Make a Raster or Raster Dataset into a Function Raster Dataset.",
   "help": ""
  },
  {
   "name": "Tampa Raster Function Template",
   "description": "Tampa Raster Function Template",
   "help": ""
  }
 ],
 "rasterTypeInfos": [
  {
   "name": "Raster Dataset",
   "description": "Supports all ArcGIS Raster Datasets",
   "help": ""
  }
 ],
 "mensurationCapabilities": "Basic",
 "hasHistograms": false,
 "hasColormap": false,
 "hasRasterAttributeTable": true,
 "minScale": 0,
 "maxScale": 0,
 "exportTilesAllowed": false,
 "supportsStatistics": false,
 "supportsAdvancedQueries": false,
 "editFieldsInfo": null,
 "ownershipBasedAccessControlForRasters": null,
 "allowComputeTiePoints": false,
 "useStandardizedQueries": true,
 "advancedQueryCapabilities": {
  "useStandardizedQueries": true,
  "supportsStatistics": false,
  "supportsOrderBy": false,
  "supportsDistinct": false,
  "supportsPagination": false
 },
 "spatialReference": {
  "wkid": 5070,
  "latestWkid": 5070
 }
}
