{
 "currentVersion": 11.1,
 "serviceDescription": "Images scanned from physical photos and georeferenced, then assembled into a mosaic. Part of the South FL District imagery project requested by Lucy Blair. For reference purposes only - accuracy is not guaranteed. \nContact: GIS.Librarian@FloridaDEP.gov ",
 "name": "Imagery/SFD_1973_Monroe_County",
 "description": "Images scanned from physical photos and georeferenced, then assembled into a mosaic. Part of the South FL District imagery project requested by Lucy Blair. For reference purposes only - accuracy is not guaranteed. \nContact: GIS.Librarian@FloridaDEP.gov ",
 "extent": {
  "xmin": -9111449.035226883,
  "ymin": 2818536.59378189,
  "xmax": -8930339.857020417,
  "ymax": 2921717.027329631,
  "spatialReference": {
   "wkid": 102100,
   "latestWkid": 3857
  }
 },
 "initialExtent": {
  "xmin": -9111449.035226883,
  "ymin": 2818536.59378189,
  "xmax": -8930339.857020417,
  "ymax": 2921717.027329631,
  "spatialReference": {
   "wkid": 102100,
   "latestWkid": 3857
  }
 },
 "fullExtent": {
  "xmin": -9111449.035226883,
  "ymin": 2818536.59378189,
  "xmax": -8930339.857020417,
  "ymax": 2921717.027329631,
  "spatialReference": {
   "wkid": 102100,
   "latestWkid": 3857
  }
 },
 "sortableFields": "",
 "bandCount": 3,
 "pixelType": "U8",
 "minValues": [],
 "maxValues": [],
 "meanValues": [],
 "stdvValues": [],
 "hasMultidimensions": false,
 "pixelSizeX": 1.1943285668550467,
 "pixelSizeY": 1.1943285668550476,
 "datasetFormat": "AFR",
 "uncompressedSize": 39301707816,
 "blockWidth": 256,
 "blockHeight": 256,
 "compressionType": "None",
 "bandNames": [
  "Band_1",
  "Band_2",
  "Band_3"
 ],
 "allowCopy": true,
 "allowAnalysis": true,
 "itemAccess": false,
 "minPixelSize": 0,
 "maxPixelSize": 0,
 "copyrightText": "TShoy Stewart, Lucy Blair, Aaron Koelker",
 "serviceDataType": "esriImageServiceDataTypeRGB",
 "serviceSourceType": "esriImageServiceSourceTypeDataset",
 "objectIdField": "",
 "fields": [],
 "capabilities": "Mensuration,Image,Metadata",
 "defaultMosaicMethod": "Center",
 "allowedMosaicMethods": "",
 "sortField": "",
 "sortValue": null,
 "sortAscending": true,
 "mosaicOperator": "First",
 "defaultCompressionQuality": 75,
 "defaultResamplingMethod": "Bilinear",
 "maxImageHeight": 4100,
 "maxImageWidth": 15000,
 "allowRasterFunction": true,
 "rasterFunctionInfos": [
  {
   "name": "None",
   "description": "",
   "help": ""
  }
 ],
 "rasterTypeInfos": [
  {
   "name": "Raster Dataset",
   "description": "Supports all ArcGIS Raster Datasets",
   "help": ""
  }
 ],
 "mensurationCapabilities": "Basic",
 "hasHistograms": false,
 "hasColormap": false,
 "hasRasterAttributeTable": false,
 "minScale": 0,
 "maxScale": 0,
 "exportTilesAllowed": false,
 "supportsStatistics": false,
 "supportsAdvancedQueries": false,
 "editFieldsInfo": null,
 "ownershipBasedAccessControlForRasters": null,
 "allowComputeTiePoints": false,
 "useStandardizedQueries": true,
 "advancedQueryCapabilities": {
  "useStandardizedQueries": true,
  "supportsStatistics": false,
  "supportsOrderBy": false,
  "supportsDistinct": false,
  "supportsPagination": false
 },
 "spatialReference": {
  "wkid": 102100,
  "latestWkid": 3857
 }
}
