{ "currentVersion": 11.1, "serviceDescription": "
The FAS FAVA Response theme grid is the relative vulnerability map for the Floridan Aquifer System. It was calculated using the ArcSDM extension and applying the weights of evidence method. A relative vulnerability class field is also in the table so that the grid can be symbolized into 3 vulnerability classes. These classes were developed based on weights of evidence vs. cumulative area breaks.<\/span><\/p><\/div><\/div><\/div>",
"name": "OpenData/FAS_RESPONSE_2",
"description": " The FAS FAVA Response theme grid is the relative vulnerability map for the Floridan Aquifer System. It was calculated using the ArcSDM extension and applying the weights of evidence method. A relative vulnerability class field is also in the table so that the grid can be symbolized into 3 vulnerability classes. These classes were developed based on weights of evidence vs. cumulative area breaks.<\/span><\/p><\/div><\/div><\/div>",
"extent": {
"xmin": 52668.02734399831,
"ymin": 259366.671875002,
"xmax": 793968.027343998,
"ymax": 781606.6718750021,
"spatialReference": {
"wkid": 102967,
"latestWkid": 6439
}
},
"initialExtent": {
"xmin": 52668.02734399831,
"ymin": 259366.671875002,
"xmax": 793968.027343998,
"ymax": 781606.6718750021,
"spatialReference": {
"wkid": 102967,
"latestWkid": 6439
}
},
"fullExtent": {
"xmin": 52668.02734399831,
"ymin": 259366.671875002,
"xmax": 793968.027343998,
"ymax": 781606.6718750021,
"spatialReference": {
"wkid": 102967,
"latestWkid": 6439
}
},
"sortableFields": "",
"bandCount": 1,
"pixelType": "U8",
"minValues": [
1
],
"maxValues": [
12
],
"meanValues": [
3.91553244925422
],
"stdvValues": [
2.0492986533119315
],
"hasMultidimensions": false,
"pixelSizeX": 29.999999999999986,
"pixelSizeY": 30.000000000000007,
"datasetFormat": "FGDBR",
"uncompressedSize": 430151680,
"blockWidth": 128,
"blockHeight": 128,
"compressionType": "LZ77",
"bandNames": [
"Band_1"
],
"allowCopy": true,
"allowAnalysis": true,
"itemAccess": false,
"minPixelSize": 0,
"maxPixelSize": 0,
"copyrightText": "Advanced GeoSpatial Inc.",
"serviceDataType": "esriImageServiceDataTypeGeneric",
"serviceSourceType": "esriImageServiceSourceTypeDataset",
"objectIdField": "",
"fields": [],
"capabilities": "Mensuration,Image,Metadata",
"defaultMosaicMethod": "Center",
"allowedMosaicMethods": "",
"sortField": "",
"sortValue": null,
"sortAscending": true,
"mosaicOperator": "First",
"defaultCompressionQuality": 75,
"defaultResamplingMethod": "Bilinear",
"maxImageHeight": 4100,
"maxImageWidth": 15000,
"allowRasterFunction": true,
"rasterFunctionInfos": [
{
"name": "FAS_RESPONSE_2_new",
"description": "A raster function template.",
"help": ""
},
{
"name": "None",
"description": "",
"help": ""
}
],
"rasterTypeInfos": [
{
"name": "Raster Dataset",
"description": "Supports all ArcGIS Raster Datasets",
"help": ""
}
],
"mensurationCapabilities": "Basic",
"hasHistograms": true,
"hasColormap": false,
"hasRasterAttributeTable": true,
"minScale": 0,
"maxScale": 0,
"exportTilesAllowed": false,
"supportsStatistics": false,
"supportsAdvancedQueries": false,
"editFieldsInfo": null,
"ownershipBasedAccessControlForRasters": null,
"allowComputeTiePoints": false,
"useStandardizedQueries": true,
"advancedQueryCapabilities": {
"useStandardizedQueries": true,
"supportsStatistics": false,
"supportsOrderBy": false,
"supportsDistinct": false,
"supportsPagination": false
},
"spatialReference": {
"wkid": 102967,
"latestWkid": 6439
}
}