{ "currentVersion": 11.1, "serviceDescription": "
The FGS used a modeling technique called Weights of Evidence (WofE) that involves the combination of diverse spatial data to describe and analyze interactions and generate predictive models from which a map of favorability can be produced. The project began with a one year pilot study in Columbia, Hamilton, and Suwannee Counties, during which methodologies were developed in preparation to model the entire state. To train and validate the model, locations of sinkholes were required. Over two-and-a-half-years, field teams traversed the state investigating over 3,600 points of interest (potential sinkholes) and mapped 654 sinkholes. After evaluating fourteen different spatial data types, the three statistically strong spatial data layers were used to model the favorability of the State\u2019s geology to sinkhole formation. The resulting map depicts four classes representing areas where the geology is least favorable to most favorable to sinkhole formation.<\/span><\/p><\/div><\/div><\/div>",
"name": "OpenData/FGS_FAV_SINK_FORMATION",
"description": " The FGS used a modeling technique called Weights of Evidence (WofE) that involves the combination of diverse spatial data to describe and analyze interactions and generate predictive models from which a map of favorability can be produced. The project began with a one year pilot study in Columbia, Hamilton, and Suwannee Counties, during which methodologies were developed in preparation to model the entire state. To train and validate the model, locations of sinkholes were required. Over two-and-a-half-years, field teams traversed the state investigating over 3,600 points of interest (potential sinkholes) and mapped 654 sinkholes. After evaluating fourteen different spatial data types, the three statistically strong spatial data layers were used to model the favorability of the State\u2019s geology to sinkhole formation. The resulting map depicts four classes representing areas where the geology is least favorable to most favorable to sinkhole formation.<\/span><\/p><\/div><\/div><\/div>",
"extent": {
"xmin": 22345.3837280265,
"ymin": 29003.2864990251,
"xmax": 847445.383728027,
"ymax": 803303.2864990251,
"spatialReference": {
"wkid": 102967,
"latestWkid": 6439
}
},
"initialExtent": {
"xmin": 22345.3837280265,
"ymin": 29003.2864990251,
"xmax": 847445.383728027,
"ymax": 803303.2864990251,
"spatialReference": {
"wkid": 102967,
"latestWkid": 6439
}
},
"fullExtent": {
"xmin": 22345.3837280265,
"ymin": 29003.2864990251,
"xmax": 847445.383728027,
"ymax": 803303.2864990251,
"spatialReference": {
"wkid": 102967,
"latestWkid": 6439
}
},
"sortableFields": "",
"bandCount": 1,
"pixelType": "U4",
"minValues": [
1
],
"maxValues": [
14
],
"meanValues": [
6.373278152660383
],
"stdvValues": [
4.573422865216668
],
"hasMultidimensions": false,
"pixelSizeX": 100.00000000000006,
"pixelSizeY": 100,
"datasetFormat": "FGDBR",
"uncompressedSize": 31943747,
"blockWidth": 128,
"blockHeight": 128,
"compressionType": "LZ77",
"bandNames": [
"Band_1"
],
"allowCopy": true,
"allowAnalysis": true,
"itemAccess": false,
"minPixelSize": 0,
"maxPixelSize": 0,
"copyrightText": "Florida Division of Emergency Management, Florida Department of Environmental Protection, Florida Geological Survey",
"serviceDataType": "esriImageServiceDataTypeThematic",
"serviceSourceType": "esriImageServiceSourceTypeDataset",
"objectIdField": "",
"fields": [],
"capabilities": "Mensuration,Image,Metadata",
"defaultMosaicMethod": "Center",
"allowedMosaicMethods": "",
"sortField": "",
"sortValue": null,
"sortAscending": true,
"mosaicOperator": "First",
"defaultCompressionQuality": 75,
"defaultResamplingMethod": "Bilinear",
"maxImageHeight": 4100,
"maxImageWidth": 15000,
"allowRasterFunction": true,
"rasterFunctionInfos": [
{
"name": "None",
"description": "",
"help": ""
}
],
"rasterTypeInfos": [
{
"name": "Raster Dataset",
"description": "Supports all ArcGIS Raster Datasets",
"help": ""
}
],
"mensurationCapabilities": "Basic",
"hasHistograms": true,
"hasColormap": false,
"hasRasterAttributeTable": true,
"minScale": 0,
"maxScale": 0,
"exportTilesAllowed": false,
"supportsStatistics": false,
"supportsAdvancedQueries": false,
"editFieldsInfo": null,
"ownershipBasedAccessControlForRasters": null,
"allowComputeTiePoints": false,
"useStandardizedQueries": true,
"advancedQueryCapabilities": {
"useStandardizedQueries": true,
"supportsStatistics": false,
"supportsOrderBy": false,
"supportsDistinct": false,
"supportsPagination": false
},
"spatialReference": {
"wkid": 102967,
"latestWkid": 6439
}
}