{ "currentVersion": 11.1, "serviceDescription": "
Hydraulic head difference between the Surficial Aquifer System (SAS) and the Floridan Aquifer System (FAS) calculated by subtracting the FAS predevelopment potentiometric surface (USGS OFR 80-406) from the SAS water table surface (developed for the FAVA model).<\/span><\/p><\/div><\/div><\/div>",
"name": "OpenData/HEAD_DIFF",
"description": " Hydraulic head difference between the Surficial Aquifer System (SAS) and the Floridan Aquifer System (FAS) calculated by subtracting the FAS predevelopment potentiometric surface (USGS OFR 80-406) from the SAS water table surface (developed for the FAVA model).<\/span><\/p><\/div><\/div><\/div>",
"extent": {
"xmin": 52668.027343998605,
"ymin": 127156.671875002,
"xmax": 793998.027343999,
"ymax": 781636.6718750021,
"spatialReference": {
"wkid": 102967,
"latestWkid": 6439
}
},
"initialExtent": {
"xmin": 52668.027343998605,
"ymin": 127156.671875002,
"xmax": 793998.027343999,
"ymax": 781636.6718750021,
"spatialReference": {
"wkid": 102967,
"latestWkid": 6439
}
},
"fullExtent": {
"xmin": 52668.027343998605,
"ymin": 127156.671875002,
"xmax": 793998.027343999,
"ymax": 781636.6718750021,
"spatialReference": {
"wkid": 102967,
"latestWkid": 6439
}
},
"sortableFields": "",
"bandCount": 1,
"pixelType": "S16",
"minValues": [
-89
],
"maxValues": [
224
],
"meanValues": [
2.6219702201722903
],
"stdvValues": [
37.3682853990042
],
"hasMultidimensions": false,
"pixelSizeX": 90.00000000000006,
"pixelSizeY": 90.00000000000001,
"datasetFormat": "FGDBR",
"uncompressedSize": 119798928,
"blockWidth": 128,
"blockHeight": 128,
"compressionType": "LZ77",
"bandNames": [
"Band_1"
],
"allowCopy": true,
"allowAnalysis": true,
"itemAccess": false,
"minPixelSize": 0,
"maxPixelSize": 0,
"copyrightText": "Florida Geological Survey",
"serviceDataType": "esriImageServiceDataTypeGeneric",
"serviceSourceType": "esriImageServiceSourceTypeDataset",
"objectIdField": "",
"fields": [],
"capabilities": "Mensuration,Image,Metadata",
"defaultMosaicMethod": "Center",
"allowedMosaicMethods": "",
"sortField": "",
"sortValue": null,
"sortAscending": true,
"mosaicOperator": "First",
"defaultCompressionQuality": 75,
"defaultResamplingMethod": "Bilinear",
"maxImageHeight": 4100,
"maxImageWidth": 15000,
"allowRasterFunction": true,
"rasterFunctionInfos": [
{
"name": "HEAD_DIFF_6439",
"description": "A raster function template.",
"help": ""
},
{
"name": "None",
"description": "",
"help": ""
}
],
"rasterTypeInfos": [
{
"name": "Raster Dataset",
"description": "Supports all ArcGIS Raster Datasets",
"help": ""
}
],
"mensurationCapabilities": "Basic",
"hasHistograms": true,
"hasColormap": false,
"hasRasterAttributeTable": true,
"minScale": 0,
"maxScale": 0,
"exportTilesAllowed": false,
"supportsStatistics": false,
"supportsAdvancedQueries": false,
"editFieldsInfo": null,
"ownershipBasedAccessControlForRasters": null,
"allowComputeTiePoints": false,
"useStandardizedQueries": true,
"advancedQueryCapabilities": {
"useStandardizedQueries": true,
"supportsStatistics": false,
"supportsOrderBy": false,
"supportsDistinct": false,
"supportsPagination": false
},
"spatialReference": {
"wkid": 102967,
"latestWkid": 6439
}
}