{ "currentVersion": 11.1, "serviceDescription": "
The Surficial Aquifer System Response theme grid is the relative vulnerability map for the Surficial Aquifer System. It was calculated using the ArcSDM extension and applying the weights of evidence method. The total number of unique conditions, number of training points per unique condition, evidential theme generalizations and posterior probability are contained in the table. A relative vulnerability class field is also in the table so that the grid can be symbolized based on FAVA vulnerability zones.<\/span><\/p><\/div><\/div>",
"name": "OpenData/SAS_RESPONSE",
"description": " The Surficial Aquifer System Response theme grid is the relative vulnerability map for the Surficial Aquifer System. It was calculated using the ArcSDM extension and applying the weights of evidence method. The total number of unique conditions, number of training points per unique condition, evidential theme generalizations and posterior probability are contained in the table. A relative vulnerability class field is also in the table so that the grid can be symbolized based on FAVA vulnerability zones.<\/span><\/p><\/div><\/div>",
"extent": {
"xmin": 52668.0273439993,
"ymin": 121133.46875000201,
"xmax": 793968.027343999,
"ymax": 781613.468750002,
"spatialReference": {
"wkid": 102967,
"latestWkid": 6439
}
},
"initialExtent": {
"xmin": 52668.0273439993,
"ymin": 121133.46875000201,
"xmax": 793968.027343999,
"ymax": 781613.468750002,
"spatialReference": {
"wkid": 102967,
"latestWkid": 6439
}
},
"fullExtent": {
"xmin": 52668.0273439993,
"ymin": 121133.46875000201,
"xmax": 793968.027343999,
"ymax": 781613.468750002,
"spatialReference": {
"wkid": 102967,
"latestWkid": 6439
}
},
"sortableFields": "",
"bandCount": 1,
"pixelType": "U8",
"minValues": [
1
],
"maxValues": [
17
],
"meanValues": [
3.550632783753381
],
"stdvValues": [
2.2597328874324027
],
"hasMultidimensions": false,
"pixelSizeX": 29.99999999999999,
"pixelSizeY": 30,
"datasetFormat": "FGDBR",
"uncompressedSize": 544015360,
"blockWidth": 128,
"blockHeight": 128,
"compressionType": "LZ77",
"bandNames": [
"Band_1"
],
"allowCopy": true,
"allowAnalysis": true,
"itemAccess": false,
"minPixelSize": 0,
"maxPixelSize": 0,
"copyrightText": "Florida Geological Survey",
"serviceDataType": "esriImageServiceDataTypeGeneric",
"serviceSourceType": "esriImageServiceSourceTypeDataset",
"objectIdField": "",
"fields": [],
"capabilities": "Mensuration,Image,Metadata",
"defaultMosaicMethod": "Center",
"allowedMosaicMethods": "",
"sortField": "",
"sortValue": null,
"sortAscending": true,
"mosaicOperator": "First",
"defaultCompressionQuality": 75,
"defaultResamplingMethod": "Bilinear",
"maxImageHeight": 4100,
"maxImageWidth": 15000,
"allowRasterFunction": true,
"rasterFunctionInfos": [
{
"name": "SAS_RESPONSE_NEW",
"description": "For SAS_RESPONSE service 2/15/2023",
"help": ""
},
{
"name": "SAS_RESPONSE_6439",
"description": "A raster function template.",
"help": ""
},
{
"name": "SAS_RESPONSE_2_6439",
"description": "A raster function template.",
"help": ""
},
{
"name": "None",
"description": "Make a Raster or Raster Dataset into a Function Raster Dataset.",
"help": ""
}
],
"rasterTypeInfos": [
{
"name": "Raster Dataset",
"description": "Supports all ArcGIS Raster Datasets",
"help": ""
}
],
"mensurationCapabilities": "Basic",
"hasHistograms": true,
"hasColormap": false,
"hasRasterAttributeTable": true,
"minScale": 0,
"maxScale": 0,
"exportTilesAllowed": false,
"supportsStatistics": false,
"supportsAdvancedQueries": false,
"editFieldsInfo": null,
"ownershipBasedAccessControlForRasters": null,
"allowComputeTiePoints": false,
"useStandardizedQueries": true,
"advancedQueryCapabilities": {
"useStandardizedQueries": true,
"supportsStatistics": false,
"supportsOrderBy": false,
"supportsDistinct": false,
"supportsPagination": false
},
"spatialReference": {
"wkid": 102967,
"latestWkid": 6439
}
}